BEGIN:VCALENDAR
VERSION:2.0
PRODID:-//Shenandoah West - ECPv6.15.13//NONSGML v1.0//EN
CALSCALE:GREGORIAN
METHOD:PUBLISH
X-WR-CALNAME:Shenandoah West
X-ORIGINAL-URL:https://shenwest.org
X-WR-CALDESC:Events for Shenandoah West
REFRESH-INTERVAL;VALUE=DURATION:PT1H
X-Robots-Tag:noindex
X-PUBLISHED-TTL:PT1H
BEGIN:VTIMEZONE
TZID:America/Boise
BEGIN:DAYLIGHT
TZOFFSETFROM:-0700
TZOFFSETTO:-0600
TZNAME:MDT
DTSTART:20200308T090000
END:DAYLIGHT
BEGIN:STANDARD
TZOFFSETFROM:-0600
TZOFFSETTO:-0700
TZNAME:MST
DTSTART:20201101T080000
END:STANDARD
BEGIN:DAYLIGHT
TZOFFSETFROM:-0700
TZOFFSETTO:-0600
TZNAME:MDT
DTSTART:20210314T090000
END:DAYLIGHT
BEGIN:STANDARD
TZOFFSETFROM:-0600
TZOFFSETTO:-0700
TZNAME:MST
DTSTART:20211107T080000
END:STANDARD
BEGIN:DAYLIGHT
TZOFFSETFROM:-0700
TZOFFSETTO:-0600
TZNAME:MDT
DTSTART:20220313T090000
END:DAYLIGHT
BEGIN:STANDARD
TZOFFSETFROM:-0600
TZOFFSETTO:-0700
TZNAME:MST
DTSTART:20221106T080000
END:STANDARD
END:VTIMEZONE
BEGIN:VEVENT
DTSTART;TZID=America/Boise:20211118T190000
DTEND;TZID=America/Boise:20211118T210000
DTSTAMP:20260423T160818
CREATED:20210709T012623Z
LAST-MODIFIED:20211027T172013Z
UID:2425-1637262000-1637269200@shenwest.org
SUMMARY:SWNA Annual Meeting - Thursday\, November 18th
DESCRIPTION:Location: Virtual via ZOOM\nWhen: 11/18/2021 at 7:00pm MST \nTopic: SWNA Annual Meeting – Thursday\, 11/18 at 7:30pm\nTime: Nov 18\, 2021 07:00 PM Mountain Time (US and Canada) \nJoin Zoom Meeting\nhttps://us02web.zoom.us/j/82377465606?pwd=QjhaT0JtUEFnME1mcUpIdEZsWFZMQT09 \nMeeting ID: 823 7746 5606\nPasscode: 733055\nOne tap mobile\n+14086380968\,\,82377465606#\,\,\,\,*733055# US (San Jose)\n+16699006833\,\,82377465606#\,\,\,\,*733055# US (San Jose) \nAgenda: TBD \n 
URL:https://shenwest.org/event/swna-annual-meeting-thursday-november-18th/
LOCATION:ID
END:VEVENT
BEGIN:VEVENT
DTSTART;VALUE=DATE:20211119
DTEND;VALUE=DATE:20211218
DTSTAMP:20260423T160818
CREATED:20211019T010008Z
LAST-MODIFIED:20211027T171929Z
UID:2452-1637280000-1639785599@shenwest.org
SUMMARY:SWNA Christmas Light Contest - Dates Announced
DESCRIPTION:We have updated our process for the Christmas Light Contest: \nKey Dates: \n\nNOW thru December 9th – Sign up to participate via SWNA website – swnaboise.org\nBefore December 10th – Lights up!!\nDecember 9 – Participating Home numbers passed out.\nDecember 10 to 14th  – VOTE for a Winner! via Trolley Ride or Drive/Walk neighborhood separately\n\nSubmit votes via SWNA website – https://shenwest.org/ \n\n\nDecember 17th – Winners Announced and Prizes awarded.\n\nCategories Include:\n\nBest Lights 1 & 2\nMost Whimsical\nMost Traditional\nBest Door/Entry\n\n\n\n\n\nQuestions?  Call/Text: 208-918-0608  Email: swna@gmail.com  \nHappy Holidays!
URL:https://shenwest.org/event/swna-christmas-light-contest-dates-announced/
LOCATION:ID
END:VEVENT
END:VCALENDAR