BEGIN:VCALENDAR
VERSION:2.0
PRODID:-//Shenandoah West - ECPv6.15.13//NONSGML v1.0//EN
CALSCALE:GREGORIAN
METHOD:PUBLISH
X-WR-CALNAME:Shenandoah West
X-ORIGINAL-URL:https://shenwest.org
X-WR-CALDESC:Events for Shenandoah West
REFRESH-INTERVAL;VALUE=DURATION:PT1H
X-Robots-Tag:noindex
X-PUBLISHED-TTL:PT1H
BEGIN:VTIMEZONE
TZID:America/Boise
BEGIN:DAYLIGHT
TZOFFSETFROM:-0700
TZOFFSETTO:-0600
TZNAME:MDT
DTSTART:20200308T090000
END:DAYLIGHT
BEGIN:STANDARD
TZOFFSETFROM:-0600
TZOFFSETTO:-0700
TZNAME:MST
DTSTART:20201101T080000
END:STANDARD
BEGIN:DAYLIGHT
TZOFFSETFROM:-0700
TZOFFSETTO:-0600
TZNAME:MDT
DTSTART:20210314T090000
END:DAYLIGHT
BEGIN:STANDARD
TZOFFSETFROM:-0600
TZOFFSETTO:-0700
TZNAME:MST
DTSTART:20211107T080000
END:STANDARD
BEGIN:DAYLIGHT
TZOFFSETFROM:-0700
TZOFFSETTO:-0600
TZNAME:MDT
DTSTART:20220313T090000
END:DAYLIGHT
BEGIN:STANDARD
TZOFFSETFROM:-0600
TZOFFSETTO:-0700
TZNAME:MST
DTSTART:20221106T080000
END:STANDARD
END:VTIMEZONE
BEGIN:VEVENT
DTSTART;TZID=America/Boise:20210506T193000
DTEND;TZID=America/Boise:20210506T210000
DTSTAMP:20260423T161558
CREATED:20210202T184447Z
LAST-MODIFIED:20210202T184447Z
UID:2346-1620329400-1620334800@shenwest.org
SUMMARY:SWNA Board Meeting - Thursday\, May 6th
DESCRIPTION:Location: Virtual via Zoom\nWhen: 5/6/2020 at 7:30pm MST\nAgenda: TBD
URL:https://shenwest.org/event/swna-board-meeting-thursday-may-6th/
LOCATION:ID
END:VEVENT
BEGIN:VEVENT
DTSTART;TZID=America/Boise:20210522T080000
DTEND;TZID=America/Boise:20210522T140000
DTSTAMP:20260423T161558
CREATED:20210312T225920Z
LAST-MODIFIED:20210312T230205Z
UID:2374-1621670400-1621692000@shenwest.org
SUMMARY:SWNA Neighborhood Garage Sale
DESCRIPTION:Saturday\, May 22nd \n8am to 2pm
URL:https://shenwest.org/event/swna-neighborhood-garage-sale/
LOCATION:ID
END:VEVENT
END:VCALENDAR