BEGIN:VCALENDAR
VERSION:2.0
PRODID:-//Shenandoah West - ECPv6.15.13//NONSGML v1.0//EN
CALSCALE:GREGORIAN
METHOD:PUBLISH
X-ORIGINAL-URL:https://shenwest.org
X-WR-CALDESC:Events for Shenandoah West
REFRESH-INTERVAL;VALUE=DURATION:PT1H
X-Robots-Tag:noindex
X-PUBLISHED-TTL:PT1H
BEGIN:VTIMEZONE
TZID:America/Boise
BEGIN:DAYLIGHT
TZOFFSETFROM:-0700
TZOFFSETTO:-0600
TZNAME:MDT
DTSTART:20200308T090000
END:DAYLIGHT
BEGIN:STANDARD
TZOFFSETFROM:-0600
TZOFFSETTO:-0700
TZNAME:MST
DTSTART:20201101T080000
END:STANDARD
BEGIN:DAYLIGHT
TZOFFSETFROM:-0700
TZOFFSETTO:-0600
TZNAME:MDT
DTSTART:20210314T090000
END:DAYLIGHT
BEGIN:STANDARD
TZOFFSETFROM:-0600
TZOFFSETTO:-0700
TZNAME:MST
DTSTART:20211107T080000
END:STANDARD
BEGIN:DAYLIGHT
TZOFFSETFROM:-0700
TZOFFSETTO:-0600
TZNAME:MDT
DTSTART:20220313T090000
END:DAYLIGHT
BEGIN:STANDARD
TZOFFSETFROM:-0600
TZOFFSETTO:-0700
TZNAME:MST
DTSTART:20221106T080000
END:STANDARD
END:VTIMEZONE
BEGIN:VEVENT
DTSTART;TZID=America/Boise:20210311T193000
DTEND;TZID=America/Boise:20210311T210000
DTSTAMP:20260423T130643
CREATED:20210202T183827Z
LAST-MODIFIED:20210202T184202Z
UID:2340-1615491000-1615496400@shenwest.org
SUMMARY:SWNA Board Meeting - Thursday\, March 11th
DESCRIPTION:Location: Virtual via Zoom\nWhen: 3/11/2020 at 7:30pm MST\nAgenda: TBD
URL:https://shenwest.org/event/swna-board-meeting-march-11th/
LOCATION:ID
END:VEVENT
BEGIN:VEVENT
DTSTART;TZID=America/Boise:20210327T080000
DTEND;TZID=America/Boise:20210327T120000
DTSTAMP:20260423T130643
CREATED:20210312T230142Z
LAST-MODIFIED:20210322T164137Z
UID:2376-1616832000-1616846400@shenwest.org
SUMMARY:SWNA Easter Event
DESCRIPTION:Saturday\, March 27th \n8am to noon \nCome enjoy a friendly Easter egg hunt with your family. Hunt at your own pace any time\nbetween 8am and noon. Come as a group made up of your own family members or\nneighbors.\nWe will be hiding 200 colorful eggs of different sizes in our neighbor open park areas\, all the\nway to Jullion Park itself. See map on the other side.\nOnce you find an egg\, mark it on your map\, please do not take it leave it there for others to\nfind.\nRemember to be safe when grouping up and please be courteous of other groups. \n  \nClick here to view the flier
URL:https://shenwest.org/event/swna-easter-event/
LOCATION:ID
END:VEVENT
END:VCALENDAR