BEGIN:VCALENDAR
VERSION:2.0
PRODID:-//Shenandoah West - ECPv6.15.13//NONSGML v1.0//EN
CALSCALE:GREGORIAN
METHOD:PUBLISH
X-ORIGINAL-URL:https://shenwest.org
X-WR-CALDESC:Events for Shenandoah West
REFRESH-INTERVAL;VALUE=DURATION:PT1H
X-Robots-Tag:noindex
X-PUBLISHED-TTL:PT1H
BEGIN:VTIMEZONE
TZID:America/Boise
BEGIN:DAYLIGHT
TZOFFSETFROM:-0700
TZOFFSETTO:-0600
TZNAME:MDT
DTSTART:20230312T090000
END:DAYLIGHT
BEGIN:STANDARD
TZOFFSETFROM:-0600
TZOFFSETTO:-0700
TZNAME:MST
DTSTART:20231105T080000
END:STANDARD
BEGIN:DAYLIGHT
TZOFFSETFROM:-0700
TZOFFSETTO:-0600
TZNAME:MDT
DTSTART:20240310T090000
END:DAYLIGHT
BEGIN:STANDARD
TZOFFSETFROM:-0600
TZOFFSETTO:-0700
TZNAME:MST
DTSTART:20241103T080000
END:STANDARD
BEGIN:DAYLIGHT
TZOFFSETFROM:-0700
TZOFFSETTO:-0600
TZNAME:MDT
DTSTART:20250309T090000
END:DAYLIGHT
BEGIN:STANDARD
TZOFFSETFROM:-0600
TZOFFSETTO:-0700
TZNAME:MST
DTSTART:20251102T080000
END:STANDARD
BEGIN:DAYLIGHT
TZOFFSETFROM:-0700
TZOFFSETTO:-0600
TZNAME:MDT
DTSTART:20260308T090000
END:DAYLIGHT
BEGIN:STANDARD
TZOFFSETFROM:-0600
TZOFFSETTO:-0700
TZNAME:MST
DTSTART:20261101T080000
END:STANDARD
END:VTIMEZONE
BEGIN:VEVENT
DTSTART;TZID=America/Boise:20240207T180000
DTEND;TZID=America/Boise:20240207T183000
DTSTAMP:20260423T131843
CREATED:20240111T153813Z
LAST-MODIFIED:20240111T205729Z
UID:3158-1707328800-1707330600@shenwest.org
SUMMARY:SWNA Board Meeting - February 7th
DESCRIPTION:Location: Virtual Only\nAgenda: TBD \nNeighbors are welcome to present questions\, comments\, concerns during the open forum meeting from 6-6:30. The Board moves into an executive session at 6:30 p.m. that is closed to the public. Members can always contact the board in-between meetings by emailing swnaboise@gmail.com or using the owner portal. Valley Property Management monitors all communication and will reply during business hours.\n  \n 
URL:https://shenwest.org/event/swna-board-meeting-february-7th/
LOCATION:ID
END:VEVENT
BEGIN:VEVENT
DTSTART;TZID=America/Boise:20240306T180000
DTEND;TZID=America/Boise:20240306T183000
DTSTAMP:20260423T131843
CREATED:20240111T153923Z
LAST-MODIFIED:20240304T174150Z
UID:3160-1709748000-1709749800@shenwest.org
SUMMARY:SWNA Board Meeting - March 6th
DESCRIPTION:Location: \nHillview United Methodist Church \n8525 W Ustick Rd\, Boise\, ID 83704 \n\nAgenda: TBD \nNeighbors are welcome to present questions\, comments\, concerns during the open forum meeting from 6-6:30. The Board moves into an executive session at 6:30 p.m. that is closed to the public. Members can always contact the board in-between meetings by emailing swnaboise@gmail.com or using the owner portal. Valley Property Management monitors all communication and will reply during business hours.\n  \n 
URL:https://shenwest.org/event/swna-board-meeting-march-6th/
LOCATION:ID
END:VEVENT
BEGIN:VEVENT
DTSTART;TZID=America/Boise:20240330T100000
DTEND;TZID=America/Boise:20240330T100000
DTSTAMP:20260423T131843
CREATED:20240308T215533Z
LAST-MODIFIED:20240308T221951Z
UID:3230-1711792800-1711792800@shenwest.org
SUMMARY:Easter Egg Hunt
DESCRIPTION:HOA sponsored Easter Egg Hunt \nSaturday\, March 30th\, 2024 \nJullion Park at 10 AM \nEggs will be provided \nPlease bring a basket for your child
URL:https://shenwest.org/event/easter-egg-hunt/
LOCATION:ID
ATTACH;FMTTYPE=image/jpeg:https://shenwest.org/wp-content/uploads/2024/03/Food-Nov-27-scaled.jpg
END:VEVENT
BEGIN:VEVENT
DTSTART;TZID=America/Boise:20240410T180000
DTEND;TZID=America/Boise:20240410T183000
DTSTAMP:20260423T131844
CREATED:20240111T154005Z
LAST-MODIFIED:20240111T204143Z
UID:3162-1712772000-1712773800@shenwest.org
SUMMARY:SWNA Board Meeting - April 10th
DESCRIPTION:Location: Virtual Only\nAgenda: TBD \nNeighbors are welcome to present questions\, comments\, concerns during the open forum meeting from 6-6:30. The Board moves into an executive session at 6:30 p.m. that is closed to the public. Members can always contact the board in-between meetings by emailing swnaboise@gmail.com or using the owner portal. Valley Property Management monitors all communication and will reply during business hours.\n  \n 
URL:https://shenwest.org/event/swna-board-meeting-april-10th/
LOCATION:ID
END:VEVENT
BEGIN:VEVENT
DTSTART;TZID=America/Boise:20240508T180000
DTEND;TZID=America/Boise:20240508T183000
DTSTAMP:20260423T131844
CREATED:20240111T154039Z
LAST-MODIFIED:20240304T174133Z
UID:3164-1715191200-1715193000@shenwest.org
SUMMARY:SWNA Board Meeting - May 8th
DESCRIPTION:Location: \nHillview United Methodist Church \n8525 W Ustick Rd\, Boise\, ID 83704 \n\nAgenda: TBD \nNeighbors are welcome to present questions\, comments\, concerns during the open forum meeting from 6-6:30. The Board moves into an executive session at 6:30 p.m. that is closed to the public. Members can always contact the board in-between meetings by emailing swnaboise@gmail.com or using the owner portal. Valley Property Management monitors all communication and will reply during business hours.\n  \n 
URL:https://shenwest.org/event/swna-board-meeting-may-8th/
LOCATION:ID
END:VEVENT
BEGIN:VEVENT
DTSTART;TZID=America/Boise:20240604T180000
DTEND;TZID=America/Boise:20240604T183000
DTSTAMP:20260423T131844
CREATED:20240111T154145Z
LAST-MODIFIED:20240528T175847Z
UID:3166-1717524000-1717525800@shenwest.org
SUMMARY:SWNA Board Meeting - June 4th
DESCRIPTION:Location: Virtual Only\nAgenda: TBD \nNeighbors are welcome to present questions\, comments\, concerns during the open forum meeting from 6-6:30. The Board moves into an executive session at 6:30 p.m. that is closed to the public. Members can always contact the board in-between meetings by emailing swnaboise@gmail.com or using the owner portal. Valley Property Management monitors all communication and will reply during business hours.\n  \n 
URL:https://shenwest.org/event/swna-board-meeting-june-5th/
LOCATION:ID
END:VEVENT
BEGIN:VEVENT
DTSTART;VALUE=DATE:20240608
DTEND;VALUE=DATE:20240609
DTSTAMP:20260423T131844
CREATED:20240429T144718Z
LAST-MODIFIED:20240429T144718Z
UID:3276-1717804800-1717891199@shenwest.org
SUMMARY:Garage Sale
DESCRIPTION:
URL:https://shenwest.org/event/garage-sale/
LOCATION:ID
END:VEVENT
BEGIN:VEVENT
DTSTART;TZID=America/Boise:20240710T180000
DTEND;TZID=America/Boise:20240710T183000
DTSTAMP:20260423T131844
CREATED:20240111T154258Z
LAST-MODIFIED:20240315T163213Z
UID:3170-1720634400-1720636200@shenwest.org
SUMMARY:SWNA Board Meeting - July 10th
DESCRIPTION:Location: \nGarden City Library \n6015 N Glenwood St\, Garden City\, ID 83714 \n\nAgenda: TBD \nNeighbors are welcome to present questions\, comments\, concerns during the open forum meeting from 6-6:30. The Board moves into an executive session at 6:30 p.m. that is closed to the public. Members can always contact the board in-between meetings by emailing swnaboise@gmail.com or using the owner portal. Valley Property Management monitors all communication and will reply during business hours.\n  \n 
URL:https://shenwest.org/event/swna-board-meeting-july-10th/
LOCATION:ID
END:VEVENT
BEGIN:VEVENT
DTSTART;TZID=America/Boise:20240808T180000
DTEND;TZID=America/Boise:20240808T183000
DTSTAMP:20260423T131844
CREATED:20240111T154342Z
LAST-MODIFIED:20240805T225039Z
UID:3172-1723140000-1723141800@shenwest.org
SUMMARY:SWNA Board Meeting - August 8th
DESCRIPTION:Location: Virtual Only\nAgenda: TBD \nhttps://meet.google.com/yxn-gxvf-nqn \nNeighbors are welcome to present questions\, comments\, concerns during the open forum meeting from 6-6:30. The Board moves into an executive session at 6:30 p.m. that is closed to the public. Members can always contact the board in-between meetings by emailing swnaboise@gmail.com or using the owner portal. Valley Property Management monitors all communication and will reply during business hours.\n  \n 
URL:https://shenwest.org/event/swna-board-meeting-august-8th/
LOCATION:ID
END:VEVENT
BEGIN:VEVENT
DTSTART;TZID=America/Boise:20240904T180000
DTEND;TZID=America/Boise:20240904T183000
DTSTAMP:20260423T131844
CREATED:20240111T154417Z
LAST-MODIFIED:20240315T163149Z
UID:3174-1725472800-1725474600@shenwest.org
SUMMARY:SWNA Board Meeting - September 4th
DESCRIPTION:Location: \nGarden City Library \n6015 N Glenwood St\, Garden City\, ID 83714 \n\nAgenda: TBD \nNeighbors are welcome to present questions\, comments\, concerns during the open forum meeting from 6-6:30. The Board moves into an executive session at 6:30 p.m. that is closed to the public. Members can always contact the board in-between meetings by emailing swnaboise@gmail.com or using the owner portal. Valley Property Management monitors all communication and will reply during business hours.\n  \n 
URL:https://shenwest.org/event/swna-board-meeting-september-4th/
LOCATION:ID
END:VEVENT
BEGIN:VEVENT
DTSTART;VALUE=DATE:20241001
DTEND;VALUE=DATE:20241015
DTSTAMP:20260423T131844
CREATED:20240802T201824Z
LAST-MODIFIED:20240802T201824Z
UID:3373-1727740800-1728950399@shenwest.org
SUMMARY:Halloween Decoration Competition Sign Up
DESCRIPTION:Let’s get spooky!! Join us for our 1st annual Halloween Decoration Competition and show us your scary side! Prizes and signs for 1st\, 2nd\, and 3rd place to be delivered on 10/30\, just in time for Trick or Treating! To submit your home for the competition\, please follow the link and sign up before 10/14. Good luck! https://forms.gle/fvxevqKNwSA35ZAH9
URL:https://shenwest.org/event/halloween-decoration-competition-sign-up/
LOCATION:ID
END:VEVENT
BEGIN:VEVENT
DTSTART;TZID=America/Boise:20241009T180000
DTEND;TZID=America/Boise:20241009T183000
DTSTAMP:20260423T131844
CREATED:20240111T154504Z
LAST-MODIFIED:20241008T155329Z
UID:3176-1728496800-1728498600@shenwest.org
SUMMARY:SWNA Board Meeting - October 9th
DESCRIPTION:Location: Virtual Only\nAgenda: TBD \nNeighbors are welcome to present questions\, comments\, concerns during the open forum meeting from 6-6:30. The Board moves into an executive session at 6:30 p.m. that is closed to the public. Members can always contact the board in-between meetings by emailing swnaboise@gmail.com or using the owner portal. Valley Property Management monitors all communication and will reply during business hours.\n \nJoin the meeting here!\nhttps://meet.google.com/uct-risx-oox\n  \n 
URL:https://shenwest.org/event/swna-board-meeting-october-9th/
LOCATION:ID
END:VEVENT
BEGIN:VEVENT
DTSTART;VALUE=DATE:20241015
DTEND;VALUE=DATE:20241030
DTSTAMP:20260423T131844
CREATED:20240802T201905Z
LAST-MODIFIED:20241015T201224Z
UID:3375-1728950400-1730246399@shenwest.org
SUMMARY:Halloween Decoration Competition Voting
DESCRIPTION:Vote here: https://forms.gle/Zpgy4fG25M3xQifG8
URL:https://shenwest.org/event/halloween-decoration-competition-voting/
LOCATION:ID
END:VEVENT
BEGIN:VEVENT
DTSTART;VALUE=DATE:20241030
DTEND;VALUE=DATE:20241031
DTSTAMP:20260423T131844
CREATED:20240802T201957Z
LAST-MODIFIED:20240802T201957Z
UID:3377-1730246400-1730332799@shenwest.org
SUMMARY:Halloween Decoration Competition Prize Delivery
DESCRIPTION:Sign and prize will be delivered by a board member.
URL:https://shenwest.org/event/halloween-decoration-competition-prize-delivery/
LOCATION:ID
END:VEVENT
BEGIN:VEVENT
DTSTART;TZID=America/Boise:20241106T180000
DTEND;TZID=America/Boise:20241106T183000
DTSTAMP:20260423T131844
CREATED:20240111T154555Z
LAST-MODIFIED:20241101T191517Z
UID:3178-1730916000-1730917800@shenwest.org
SUMMARY:SWNA Board Planning Session - November 6th
DESCRIPTION:Location: \nPrivate Home \n– No virtual available for this meeting \n\nAgenda: TBD \nThis meeting is closed to the community for comments and we are encouraging members to come to the annual meeting. Correspondence may be sent in in preparation for the annual meeting and things they would like discussed.\n  \n 
URL:https://shenwest.org/event/swna-board-meeting-november-6th/
LOCATION:ID
END:VEVENT
BEGIN:VEVENT
DTSTART;TZID=America/Boise:20241121T193000
DTEND;TZID=America/Boise:20241121T193000
DTSTAMP:20260423T131844
CREATED:20240111T154709Z
LAST-MODIFIED:20241112T182410Z
UID:3180-1732217400-1732217400@shenwest.org
SUMMARY:SWNA Annual Meeting - November 21st
DESCRIPTION:Location: Summerwind Elementary Gymnasium at 3675 N Jullion Way\, Boise\, ID\, 83704 from 7:30-9:30 p.m. \n– No virtual available for this meeting \nClick here to view the agenda \n \n  \n 
URL:https://shenwest.org/event/swna-annual-meeting-november-21st/
LOCATION:ID
END:VEVENT
BEGIN:VEVENT
DTSTART;VALUE=DATE:20241201
DTEND;VALUE=DATE:20241211
DTSTAMP:20260423T131844
CREATED:20240802T202543Z
LAST-MODIFIED:20240802T202543Z
UID:3379-1733011200-1733875199@shenwest.org
SUMMARY:Holiday Lights Competition Sign Up
DESCRIPTION:Deck those halls and show us what you are made of! Join us for our annual Holiday Lights Competition and spread some holiday cheer! The trolley (and biggest voting night) will be 12/13; prizes and signs will be delivered 12/19. To submit your home for the competition\, please follow the link and sign up before 12/10. Good luck! https://forms.gle/nwanygcicAkvi34Q9 
URL:https://shenwest.org/event/holiday-lights-competition-sign-up/
LOCATION:ID
END:VEVENT
BEGIN:VEVENT
DTSTART;VALUE=DATE:20241211
DTEND;VALUE=DATE:20241219
DTSTAMP:20260423T131844
CREATED:20240802T202615Z
LAST-MODIFIED:20241210T165249Z
UID:3381-1733875200-1734566399@shenwest.org
SUMMARY:Holiday Lights Competition Voting
DESCRIPTION:Good luck to all\, voting is open between 12/10/24 and 12/18/24! Each home gets one vote\, following the link here or the QR code below: https://forms.gle/JNxo962M7sxW7tv17 \nThe map of the homes and route for the trolley can be found here! \n \nHappy Holidays from the SWNA Board of Directors!
URL:https://shenwest.org/event/holiday-lights-competition-voting/
LOCATION:ID
END:VEVENT
BEGIN:VEVENT
DTSTART;TZID=America/Boise:20241213T183000
DTEND;TZID=America/Boise:20241213T203000
DTSTAMP:20260423T131844
CREATED:20240802T202807Z
LAST-MODIFIED:20241007T144900Z
UID:3383-1734114600-1734121800@shenwest.org
SUMMARY:Holiday Lights Trolley
DESCRIPTION:Come one\, come all to our annual holiday lights trolley ride! Bring the family and take a tour of the neighborhood lights and vote for the best in show! Trolley slots are 30 minutes long and are first come first served. Please limit your party size to 4 in order to allow all community members the chance to participate. If you have a larger group\, please email the board ASAP to assist with reservations. Tickets are free!  \n4101 N Armstrong Ave \n  \nReserve your tickets here! https://www.eventbrite.com/e/974824274647?aff=oddtdtcreator \nPassword: ShenWest2024
URL:https://shenwest.org/event/holiday-lights-trolley/
LOCATION:4101 N Armstrong Ave\, 4101 N Armstrong Ave\, Boise\, ID\, 83704\, United States
END:VEVENT
BEGIN:VEVENT
DTSTART;VALUE=DATE:20241219
DTEND;VALUE=DATE:20241220
DTSTAMP:20260423T131844
CREATED:20240802T202850Z
LAST-MODIFIED:20240802T202850Z
UID:3385-1734566400-1734652799@shenwest.org
SUMMARY:Holiday Lights Competition Prize Delivery
DESCRIPTION:Sign and prize will be delivered by a board member.
URL:https://shenwest.org/event/holiday-lights-competition-prize-delivery/
LOCATION:ID
END:VEVENT
BEGIN:VEVENT
DTSTART;TZID=America/Boise:20250101T180000
DTEND;TZID=America/Boise:20250101T200000
DTSTAMP:20260423T131844
CREATED:20241107T163311Z
LAST-MODIFIED:20241107T163311Z
UID:3468-1735754400-1735761600@shenwest.org
SUMMARY:SWNA Board Meeting - January 8th
DESCRIPTION:Location: Boise Library on Cole and Ustick\nAgenda: TBD
URL:https://shenwest.org/event/swna-board-meeting-january-8th-2/
LOCATION:Boise Library\, 7557 W Ustick Rd\, Boise\, ID\, 83704\, United States
END:VEVENT
BEGIN:VEVENT
DTSTART;TZID=America/Boise:20250205T180000
DTEND;TZID=America/Boise:20250205T200000
DTSTAMP:20260423T131844
CREATED:20250117T222053Z
LAST-MODIFIED:20250117T222935Z
UID:3534-1738778400-1738785600@shenwest.org
SUMMARY:SWNA Board Meeting: February
DESCRIPTION:Wednesday\, February 5th 6:00-8:00pm \nLocation: virtual only \nJoin the meeting here! \nhttps://meet.google.com/jbf-qfjn-etq \n  \nNeighbors are welcome to present questions\, comments\, concerns during the open forum meeting from 6-6:30. The Board moves into an executive session at 6:30 p.m. that is closed to the public. Members can always contact the board in-between meetings by emailing swnaboise@gmail.com and vpm@vpmco.com\, or using the VPM owner portal. Valley Property Management monitors all communication and will reply during business hours.
URL:https://shenwest.org/event/swna-board-meeting-february/
LOCATION:ID
END:VEVENT
BEGIN:VEVENT
DTSTART;TZID=America/Boise:20250305T180000
DTEND;TZID=America/Boise:20250305T200000
DTSTAMP:20260423T131844
CREATED:20250117T222128Z
LAST-MODIFIED:20250210T155135Z
UID:3536-1741197600-1741204800@shenwest.org
SUMMARY:SWNA Board Meeting: March
DESCRIPTION:Wednesday\, March 5th 6:00-8:00pm \nLocation: Garden City Library\, 6015 N Glenwood\, Garden City \nVirtual option available; join the meeting here! \nhttps://meet.google.com/iit-ubgr-npj \n  \nNeighbors are welcome to present questions\, comments\, concerns during the open forum meeting from 6-6:30. The Board moves into an executive session at 6:30 p.m. that is closed to the public. Members can always contact the board in-between meetings by emailing swnaboise@gmail.com and vpm@vpmco.com\, or using the VPM owner portal. Valley Property Management monitors all communication and will reply during business hours.
URL:https://shenwest.org/event/swna-board-meeting-march/
LOCATION:ID
END:VEVENT
BEGIN:VEVENT
DTSTART;TZID=America/Boise:20250409T180000
DTEND;TZID=America/Boise:20250409T200000
DTSTAMP:20260423T131844
CREATED:20250117T222207Z
LAST-MODIFIED:20250210T154911Z
UID:3538-1744221600-1744228800@shenwest.org
SUMMARY:SWNA Board Meeting: April
DESCRIPTION:Wednesday\, April 9th 6:00-8:00pm \nLocation: virtual only \nJoin the meeting here! \nhttps://meet.google.com/ocf-ydqu-exw \n  \nNeighbors are welcome to present questions\, comments\, concerns during the open forum meeting from 6-6:30. The Board moves into an executive session at 6:30 p.m. that is closed to the public. Members can always contact the board in-between meetings by emailing swnaboise@gmail.com and vpm@vpmco.com\, or using the VPM owner portal. Valley Property Management monitors all communication and will reply during business hours.
URL:https://shenwest.org/event/swna-board-meeting-april/
LOCATION:ID
END:VEVENT
BEGIN:VEVENT
DTSTART;TZID=America/Boise:20250507T180000
DTEND;TZID=America/Boise:20250507T200000
DTSTAMP:20260423T131844
CREATED:20250117T222253Z
LAST-MODIFIED:20250210T155154Z
UID:3540-1746640800-1746648000@shenwest.org
SUMMARY:SWNA Board Meeting: May
DESCRIPTION:Wednesday\, May 7th 6:00-8:00pm \nLocation: Garden City Library\, 6015 N Glenwood\, Garden City \nVirtual option available; join the meeting here! \nhttps://meet.google.com/iew-wccu-kjz \n  \nNeighbors are welcome to present questions\, comments\, concerns during the open forum meeting from 6-6:30. The Board moves into an executive session at 6:30 p.m. that is closed to the public. Members can always contact the board in-between meetings by emailing swnaboise@gmail.com and vpm@vpmco.com\, or using the VPM owner portal. Valley Property Management monitors all communication and will reply during business hours.
URL:https://shenwest.org/event/swna-board-meeting-may/
LOCATION:ID
END:VEVENT
BEGIN:VEVENT
DTSTART;VALUE=DATE:20250531
DTEND;VALUE=DATE:20250601
DTSTAMP:20260423T131844
CREATED:20250327T180539Z
LAST-MODIFIED:20250521T143753Z
UID:3623-1748649600-1748735999@shenwest.org
SUMMARY:Neighborhood Garage Sale
DESCRIPTION:Join us Saturday\, May 31st for a fantastic garage sale right in our community! It’s the perfect opportunity to find hidden treasures\, score amazing deals\, and support local sellers.
URL:https://shenwest.org/event/neighborhood-garage-sale/
LOCATION:ID
ATTACH;FMTTYPE=image/png:https://shenwest.org/wp-content/uploads/2025/05/Neighborhood-Garage-Sale.png
END:VEVENT
BEGIN:VEVENT
DTSTART;TZID=America/Boise:20250531T080000
DTEND;TZID=America/Boise:20250601T170000
DTSTAMP:20260423T131844
CREATED:20250521T143536Z
LAST-MODIFIED:20250521T144021Z
UID:3666-1748678400-1748797200@shenwest.org
SUMMARY:Children's Clothing Drive
DESCRIPTION:Donate children’s clothing for Summerwind Elementary students. Your donation of gently used children’s clothing will help the school counselor and nurse serve the students for the 2025-2026 school year. Please consider your unsold clothing from the annual neighborhood garage sale. Approved by Summerwind STEM Academy. Drop off at 4101 N Armstrong Ave\, Boise\, ID 83704 . Tell your neighbors! \nSizes 4t – Youth Large are needed!
URL:https://shenwest.org/event/childrens-clothing-drive/
LOCATION:4101 N Armstrong Ave\, 4101 N Armstrong Ave\, Boise\, ID\, 83704\, United States
ATTACH;FMTTYPE=image/png:https://shenwest.org/wp-content/uploads/2025/05/Clothing-Drive-Media.png
END:VEVENT
BEGIN:VEVENT
DTSTART;TZID=America/Boise:20250531T080000
DTEND;TZID=America/Boise:20250601T170000
DTSTAMP:20260423T131844
CREATED:20250521T143704Z
LAST-MODIFIED:20250530T143613Z
UID:3670-1748678400-1748797200@shenwest.org
SUMMARY:Property Cleanup
DESCRIPTION:This year the Board voted to spend some funding on two large dumpsters placed around the neighborhood for community member use. We can fill them up to two tons each! Please utilize these for disposing of all unsold or unwanted items. The two dumpsters will be available at 4101 N Armstrong Avenue\, and the intersection of W Meadowlark St. and N Westview Way all weekend. Tell your neighbors!
URL:https://shenwest.org/event/property-cleanup/
LOCATION:ID
ATTACH;FMTTYPE=image/jpeg:https://shenwest.org/wp-content/uploads/2025/05/Dumpster-Ecology-Image-Apr-2025-scaled.jpg
END:VEVENT
BEGIN:VEVENT
DTSTART;TZID=America/Boise:20250605T180000
DTEND;TZID=America/Boise:20250605T200000
DTSTAMP:20260423T131844
CREATED:20250117T222326Z
LAST-MODIFIED:20250602T142530Z
UID:3542-1749146400-1749153600@shenwest.org
SUMMARY:SWNA Board Meeting: June
DESCRIPTION:Thursday\, June 5th 6:00-8:00pm \nLocation: virtual only \nJoin the meeting here! \nhttps://meet.google.com/eif-brxs-tkb \n  \nNeighbors are welcome to present questions\, comments\, concerns during the open forum meeting from 6-6:30. The Board moves into an executive session at 6:30 p.m. that is closed to the public. Members can always contact the board in-between meetings by emailing swnaboise@gmail.com and vpm@vpmco.com\, or using the VPM owner portal. Valley Property Management monitors all communication and will reply during business hours.
URL:https://shenwest.org/event/swna-board-meeting-june/
LOCATION:ID
END:VEVENT
BEGIN:VEVENT
DTSTART;TZID=America/Boise:20250616T190000
DTEND;TZID=America/Boise:20250616T200000
DTSTAMP:20260423T131844
CREATED:20250609T221239Z
LAST-MODIFIED:20250609T221239Z
UID:3680-1750100400-1750104000@shenwest.org
SUMMARY:Rosé All Day
DESCRIPTION:ShenWest Summer Wine Club \nHosted by Sonnay Alvarez every other Monday\, 7–8pm at Jullion Park picnic tables \nLet’s sip some wine and meet the neighbors! This is a casual wine club open to anyone in the neighborhood who wants to connect\, try something new\, and enjoy summer evenings in the park. Please fill out the form below if you’d like to join the ShenWest Summer Wine Club to receive RSVPs for each event.  \nEach meet-up includes a tasting flight—typically 2 oz pours of a few different wines. Exact pours may vary depending on how many bottles are shared that night\, but there will always be something in your glass and something fun to talk about. While we taste\, we’ll also do a light activity—something casual like group prompts\, wine-themed conversation cards\, or mini challenges to help break the ice and learn a little. After the tasting\, we can sip through the wine while we mingle! \nI plan to bring wine to each event to make sure there’s always a solid flight to taste—but I’d love if others want to contribute a bottle\, too. If you’ve got a bottle laying around that you’d like to share\, bring it! No need to go out and spend extra money.  \n  \nRSVP
URL:https://shenwest.org/event/rose-all-day/
LOCATION:ID
ATTACH;FMTTYPE=image/jpeg:https://shenwest.org/wp-content/uploads/2025/06/Rose-Wine-Unsplash-scaled.jpg
END:VEVENT
END:VCALENDAR