BEGIN:VCALENDAR
VERSION:2.0
PRODID:-//Shenandoah West - ECPv6.15.13//NONSGML v1.0//EN
CALSCALE:GREGORIAN
METHOD:PUBLISH
X-WR-CALNAME:Shenandoah West
X-ORIGINAL-URL:https://shenwest.org
X-WR-CALDESC:Events for Shenandoah West
REFRESH-INTERVAL;VALUE=DURATION:PT1H
X-Robots-Tag:noindex
X-PUBLISHED-TTL:PT1H
BEGIN:VTIMEZONE
TZID:America/Boise
BEGIN:DAYLIGHT
TZOFFSETFROM:-0700
TZOFFSETTO:-0600
TZNAME:MDT
DTSTART:20170312T090000
END:DAYLIGHT
BEGIN:STANDARD
TZOFFSETFROM:-0600
TZOFFSETTO:-0700
TZNAME:MST
DTSTART:20171105T080000
END:STANDARD
BEGIN:DAYLIGHT
TZOFFSETFROM:-0700
TZOFFSETTO:-0600
TZNAME:MDT
DTSTART:20180311T090000
END:DAYLIGHT
BEGIN:STANDARD
TZOFFSETFROM:-0600
TZOFFSETTO:-0700
TZNAME:MST
DTSTART:20181104T080000
END:STANDARD
BEGIN:DAYLIGHT
TZOFFSETFROM:-0700
TZOFFSETTO:-0600
TZNAME:MDT
DTSTART:20190310T090000
END:DAYLIGHT
BEGIN:STANDARD
TZOFFSETFROM:-0600
TZOFFSETTO:-0700
TZNAME:MST
DTSTART:20191103T080000
END:STANDARD
BEGIN:DAYLIGHT
TZOFFSETFROM:-0700
TZOFFSETTO:-0600
TZNAME:MDT
DTSTART:20200308T090000
END:DAYLIGHT
BEGIN:STANDARD
TZOFFSETFROM:-0600
TZOFFSETTO:-0700
TZNAME:MST
DTSTART:20201101T080000
END:STANDARD
BEGIN:DAYLIGHT
TZOFFSETFROM:-0700
TZOFFSETTO:-0600
TZNAME:MDT
DTSTART:20210314T090000
END:DAYLIGHT
BEGIN:STANDARD
TZOFFSETFROM:-0600
TZOFFSETTO:-0700
TZNAME:MST
DTSTART:20211107T080000
END:STANDARD
END:VTIMEZONE
BEGIN:VEVENT
DTSTART;TZID=America/Boise:20200507T190000
DTEND;TZID=America/Boise:20200507T203000
DTSTAMP:20260423T181339
CREATED:20200120T182342Z
LAST-MODIFIED:20200430T230554Z
UID:2181-1588878000-1588883400@shenwest.org
SUMMARY:SWNA Board Meeting - Thursday\, May 7th
DESCRIPTION:Location: Virtual via Zoom \nContact the board if you’d like to attend (virtually) \n208-918-0608 \nWhen: 5/7/2020 at 7pm MST \nAgenda: TBD
URL:https://shenwest.org/event/swna-board-meeting-thursday-may-7th/
END:VEVENT
BEGIN:VEVENT
DTSTART;TZID=America/Boise:20200404T103000
DTEND;TZID=America/Boise:20200404T120000
DTSTAMP:20260423T181339
CREATED:20200120T182213Z
LAST-MODIFIED:20200319T161416Z
UID:2179-1585996200-1586001600@shenwest.org
SUMMARY:SWNA Easter Event - CANCELED
DESCRIPTION:When: CANCELED \nDetails: Annual Easter Egg Hunt \n\nWe have no choice but to CANCEL our 2020 Easter Egg Hunt event due to the current economic conditions.
URL:https://shenwest.org/event/swna-easter-event-saturday-april-4th/
END:VEVENT
BEGIN:VEVENT
DTSTART;TZID=America/Boise:20200402T190000
DTEND;TZID=America/Boise:20200402T203000
DTSTAMP:20260423T181339
CREATED:20200120T182009Z
LAST-MODIFIED:20200319T161606Z
UID:2177-1585854000-1585859400@shenwest.org
SUMMARY:SWNA Board Meeting - Thursday\, April 2nd
DESCRIPTION:Location: Remote via Conference Call/Video Chat \n\nPlease contact the board if you would like to call in.\n\nWhen: 4/2/2020 at 7pm MST \nAgenda: TBD
URL:https://shenwest.org/event/swna-board-meeting-thursday-april-2nd/
END:VEVENT
BEGIN:VEVENT
DTSTART;TZID=America/Boise:20200305T000000
DTEND;TZID=America/Boise:20200305T000000
DTSTAMP:20260423T181339
CREATED:20200120T181749Z
LAST-MODIFIED:20200216T204428Z
UID:2174-1583366400-1583366400@shenwest.org
SUMMARY:SWNA Board Meeting - Thursday\, March 5th - NO MEETING
DESCRIPTION:Location: NO MEETING in March due to Board Storage Clean-out event \nWhen: n/a \nAgenda: n/a
URL:https://shenwest.org/event/swna-board-meeting-thursday-march-5th/
END:VEVENT
BEGIN:VEVENT
DTSTART;TZID=America/Boise:20200206T190000
DTEND;TZID=America/Boise:20200206T203000
DTSTAMP:20260423T181339
CREATED:20200120T181611Z
LAST-MODIFIED:20200120T181815Z
UID:2172-1581015600-1581021000@shenwest.org
SUMMARY:SWNA Board Meeting - Thursday\, February 6th
DESCRIPTION:Location: Summerwind Elementary conference room \nWhen: 2/6/2020 at 7pm MST \nAgenda: TBD
URL:https://shenwest.org/event/swna-board-meeting-thursday-february-6th/
END:VEVENT
BEGIN:VEVENT
DTSTART;TZID=America/Boise:20200108T190000
DTEND;TZID=America/Boise:20200108T203000
DTSTAMP:20260423T181339
CREATED:20191224T195746Z
LAST-MODIFIED:20200106T232532Z
UID:2163-1578510000-1578515400@shenwest.org
SUMMARY:SWNA Board Meeting - January 8th
DESCRIPTION:What: SWNA Monthly Meeting \nWhere: at Summerwind Elementary \nWhen: 1/8/2020 at 7pm MST \nTent Agenda: \n\nIntroduce 2020 Board Members\nSketch Out 2020 Even
URL:https://shenwest.org/event/swna-board-meeting-january-8th/
END:VEVENT
BEGIN:VEVENT
DTSTART;TZID=America/Boise:20191213T170000
DTEND;TZID=America/Boise:20191214T170000
DTSTAMP:20260423T181339
CREATED:20190731T200619Z
LAST-MODIFIED:20191202T235125Z
UID:1854-1576256400-1576342800@shenwest.org
SUMMARY:Christmas Light Judging
DESCRIPTION:HAVE LIGHTS UP BY DEC. 13th @ 5pm CASH PRIZES!!! \nCategories: \n\nBest Lights 1 & 2\, Most Traditional\nMost Whimsical\nBest Entry Way\nHonorable Mentions.\n\nWhen: Voting begins 5pm\, Dec. 13th.  Please vote at the Trolley ride event or email the board with your votes by 5pm Dec. 14th.  Addresses can be difficult to see at night\, but the nextdoor website can be used to verify addresses or you can describe the light display and indicate street. \n**All dues paying neighbors are eligible to enter and eligible to vote! \nWhere: Vote at the trolley ride or send votes to swnaboise@gmail.com starting Dec. 13th@ 5pm
URL:https://shenwest.org/event/christmas-light-judging-tbd/
END:VEVENT
BEGIN:VEVENT
DTSTART;TZID=America/Boise:20191121T193000
DTEND;TZID=America/Boise:20191121T193000
DTSTAMP:20260423T181339
CREATED:20190731T194604Z
LAST-MODIFIED:20191119T192902Z
UID:1839-1574364600-1574364600@shenwest.org
SUMMARY:SWNA ANNUAL MEETING - Please attend
DESCRIPTION:Please join us for the Shenandoah West Neighborhood Association Annual Meeting \nThursday\, November 21st at 7:30pm. \nSummerwind Elementary gymnasium \nTopics to include: \n– Neighborhood amenities – update \n– Neighborhood CC&R’s – update & committee needs \n(no voting will taking place on the topics above\, only an update on next steps) \n– Annual Budget \n– 2020 Board Member Elections \nSpecial Guests to include: \n– Boise Police Neighborhood Resource Officer \n– Landscape Professional \nCheck-in starts at 7pm. Refreshments will be provided. \nNOTE: Please consider walking or riding bikes to the meeting. There will be limited parking due to a previous STEM Event taking place at the school. \nUnable to attend? Please complete the Proxy in your absence – available here: https://shenwest.org/documents/forms/ \nSincerely\, \nSWNA Board \nswnaboise@gmail.com \n208-918-060
URL:https://shenwest.org/event/annual-meeting/
END:VEVENT
BEGIN:VEVENT
DTSTART;TZID=America/Boise:20191106T190000
DTEND;TZID=America/Boise:20191106T190000
DTSTAMP:20260423T181339
CREATED:20190731T194912Z
LAST-MODIFIED:20190731T200351Z
UID:1843-1573066800-1573066800@shenwest.org
SUMMARY:SWNA Board Meeting (November) - Location TBD
DESCRIPTION:
URL:https://shenwest.org/event/november-swna-board-meeting-location-tbd/
END:VEVENT
BEGIN:VEVENT
DTSTART;TZID=America/Boise:20191002T190000
DTEND;TZID=America/Boise:20191002T190000
DTSTAMP:20260423T181339
CREATED:20190731T200121Z
LAST-MODIFIED:20190731T200121Z
UID:1847-1570042800-1570042800@shenwest.org
SUMMARY:SWNA Board Meeting (October) - Location TBD
DESCRIPTION:
URL:https://shenwest.org/event/swna-board-meeting-october-location-tbd/
END:VEVENT
BEGIN:VEVENT
DTSTART;TZID=America/Boise:20190904T190000
DTEND;TZID=America/Boise:20190904T190000
DTSTAMP:20260423T181339
CREATED:20190731T194831Z
LAST-MODIFIED:20190731T200431Z
UID:1841-1567623600-1567623600@shenwest.org
SUMMARY:SWNA Board Meeting (September) - Location TBD
DESCRIPTION:
URL:https://shenwest.org/event/swna-board-meeting-location-tbd/
END:VEVENT
BEGIN:VEVENT
DTSTART;TZID=America/Boise:20190806T173000
DTEND;TZID=America/Boise:20190806T173000
DTSTAMP:20260423T181339
CREATED:20190731T194344Z
LAST-MODIFIED:20190731T195031Z
UID:1837-1565112600-1565112600@shenwest.org
SUMMARY:National Night Out (NNO) - FREE ICE CREAM
DESCRIPTION:National Night Out \nTuesday\, August 6th\, 2019 \nIt’s that time again to celebrate National Night Out (NNO)!  This year we are encouraging neighbors to grill out front\, organize neighbor block parties/potlucks or just get out this evening to mingle and meet neighbors. \nSuggested start time of 5:30pm\, Tuesday\, August 6th! \nThe SWNA Board will be sponsoring Old Betty Ice Cream truck that will be driving the neighborhood.  Look for the bright Pink Truck! \nHope to see you out and about neighbors!
URL:https://shenwest.org/event/national-night-out-nno-530-free-ice-cream/
END:VEVENT
BEGIN:VEVENT
DTSTART;TZID=America/Boise:20190803T170000
DTEND;TZID=America/Boise:20190803T170000
DTSTAMP:20260423T181339
CREATED:20190731T200002Z
LAST-MODIFIED:20190731T200002Z
UID:1845-1564851600-1564851600@shenwest.org
SUMMARY:Community BBQ Party at Jullion Park - FREE Food\, bounce houses & games
DESCRIPTION:What: Community BBQ party at Jullion Park\n\n\nFree food\, bounce houses\, games for kids and more! \n\n\nWhen: August 3rd from 5-9 pm. \n\n\n\nThis event is hosted by the West Valley Association (WVNA) and Faith Community Bible Church (Ustick & Jullion Street)\n\nAll are Welcome!
URL:https://shenwest.org/event/community-bbq-party-at-jullion-park/
END:VEVENT
BEGIN:VEVENT
DTSTART;TZID=America/Boise:20180821T190000
DTEND;TZID=America/Boise:20180821T200000
DTSTAMP:20260423T181339
CREATED:20180121T175846Z
LAST-MODIFIED:20180808T220243Z
UID:1010-1534878000-1534881600@shenwest.org
SUMMARY:Board Meeting
DESCRIPTION:
URL:https://shenwest.org/event/board-meeting-7/
LOCATION:Shinn Residence: 10435 W Alliance St
END:VEVENT
BEGIN:VEVENT
DTSTART;TZID=America/Boise:20180807T173000
DTEND;TZID=America/Boise:20180807T193000
DTSTAMP:20260423T181339
CREATED:20180121T175511Z
LAST-MODIFIED:20180808T222504Z
UID:1006-1533663000-1533670200@shenwest.org
SUMMARY:Nation Night Out (NNO) - August 7th\, 5:30PM
DESCRIPTION:Thank you to everyone that attended this year! We’ll see you on the 1st Tuesday of August\, 2019!
URL:https://shenwest.org/event/nation-night-out-nno/
LOCATION:Jullion Park\,  3901 N Jullion Way\, Boise\, 83704\, United States
END:VEVENT
BEGIN:VEVENT
DTSTART;TZID=America/Boise:20180710T190000
DTEND;TZID=America/Boise:20180710T200000
DTSTAMP:20260423T181339
CREATED:20180121T175345Z
LAST-MODIFIED:20180710T201859Z
UID:1004-1531249200-1531252800@shenwest.org
SUMMARY:Board Meeting
DESCRIPTION:
URL:https://shenwest.org/event/board-meeting-6/
LOCATION:4350 N Westview Place
END:VEVENT
BEGIN:VEVENT
DTSTART;TZID=America/Boise:20180614T190000
DTEND;TZID=America/Boise:20180614T200000
DTSTAMP:20260423T181339
CREATED:20180121T175236Z
LAST-MODIFIED:20180614T131126Z
UID:1002-1529002800-1529006400@shenwest.org
SUMMARY:Board Meeting
DESCRIPTION:
URL:https://shenwest.org/event/board-meeting-5/
LOCATION:Delsas Ice Cream\, Ustick Rd
END:VEVENT
BEGIN:VEVENT
DTSTART;TZID=America/Boise:20180508T190000
DTEND;TZID=America/Boise:20180508T200000
DTSTAMP:20260423T181339
CREATED:20180121T175133Z
LAST-MODIFIED:20180121T175133Z
UID:1000-1525806000-1525809600@shenwest.org
SUMMARY:Board Meeting
DESCRIPTION:
URL:https://shenwest.org/event/board-meeting-4/
LOCATION:Summerwind Elementary\, 3675 N Jullion Way\, Boise\, ID\, 83704\, United States
END:VEVENT
BEGIN:VEVENT
DTSTART;TZID=America/Boise:20180428T080000
DTEND;TZID=America/Boise:20180428T140000
DTSTAMP:20260423T181339
CREATED:20180121T175044Z
LAST-MODIFIED:20180310T142733Z
UID:997-1524902400-1524924000@shenwest.org
SUMMARY:Neighborhood Yard Sale
DESCRIPTION:What: Neighborhood Yard Sale \nWho: Shenandoah West and Belmont Park \nStarts: 8 AM \nDonation pickup starts at 2PM. Leave your items near the curb. Items must be stacked and boxed neatly. All furniture must be stain free and 100% complete and functional. Broken and stained items will NOT be picked up. The driver makes the final decision on condition.
URL:https://shenwest.org/event/neighborhood-yard-sale/
LOCATION:Shenandoah West Neighborhood
END:VEVENT
BEGIN:VEVENT
DTSTART;TZID=America/Boise:20180410T190000
DTEND;TZID=America/Boise:20180410T200000
DTSTAMP:20260423T181339
CREATED:20180121T174931Z
LAST-MODIFIED:20180121T174931Z
UID:995-1523386800-1523390400@shenwest.org
SUMMARY:Board Meeting
DESCRIPTION:
URL:https://shenwest.org/event/board-meeting-3/
LOCATION:Summerwind Elementary\, 3675 N Jullion Way\, Boise\, ID\, 83704\, United States
END:VEVENT
BEGIN:VEVENT
DTSTART;TZID=America/Boise:20180324T100000
DTEND;TZID=America/Boise:20180324T120000
DTSTAMP:20260423T181339
CREATED:20180121T175636Z
LAST-MODIFIED:20180310T142302Z
UID:1008-1521885600-1521892800@shenwest.org
SUMMARY:SWNA - Easter Egg Hunt
DESCRIPTION:Join us at Jullion Park\, near the cover for a fun family morning. \n  \nPlease bring 1 dozen eggs per child participating in the Easter Egg Hunt. \n  \n  \n 
URL:https://shenwest.org/event/swna-easter-egg-hunt/
LOCATION:Jullion Park\,  3901 N Jullion Way\, Boise\, 83704\, United States
END:VEVENT
BEGIN:VEVENT
DTSTART;TZID=America/Boise:20180313T190000
DTEND;TZID=America/Boise:20180313T200000
DTSTAMP:20260423T181339
CREATED:20180121T174833Z
LAST-MODIFIED:20180121T174833Z
UID:993-1520967600-1520971200@shenwest.org
SUMMARY:Board Meeting
DESCRIPTION:
URL:https://shenwest.org/event/board-meeting-2/
LOCATION:Summerwind Elementary\, 3675 N Jullion Way\, Boise\, ID\, 83704\, United States
END:VEVENT
BEGIN:VEVENT
DTSTART;TZID=America/Boise:20180213T190000
DTEND;TZID=America/Boise:20180213T200000
DTSTAMP:20260423T181339
CREATED:20180121T174740Z
LAST-MODIFIED:20180121T174740Z
UID:991-1518548400-1518552000@shenwest.org
SUMMARY:Board Meeting
DESCRIPTION:
URL:https://shenwest.org/event/board-meeting/
LOCATION:Summerwind Elementary\, 3675 N Jullion Way\, Boise\, ID\, 83704\, United States
END:VEVENT
END:VCALENDAR