BEGIN:VCALENDAR
VERSION:2.0
PRODID:-//Shenandoah West - ECPv6.15.13//NONSGML v1.0//EN
CALSCALE:GREGORIAN
METHOD:PUBLISH
X-WR-CALNAME:Shenandoah West
X-ORIGINAL-URL:https://shenwest.org
X-WR-CALDESC:Events for Shenandoah West
REFRESH-INTERVAL;VALUE=DURATION:PT1H
X-Robots-Tag:noindex
X-PUBLISHED-TTL:PT1H
BEGIN:VTIMEZONE
TZID:America/Boise
BEGIN:DAYLIGHT
TZOFFSETFROM:-0700
TZOFFSETTO:-0600
TZNAME:MDT
DTSTART:20210314T090000
END:DAYLIGHT
BEGIN:STANDARD
TZOFFSETFROM:-0600
TZOFFSETTO:-0700
TZNAME:MST
DTSTART:20211107T080000
END:STANDARD
BEGIN:DAYLIGHT
TZOFFSETFROM:-0700
TZOFFSETTO:-0600
TZNAME:MDT
DTSTART:20220313T090000
END:DAYLIGHT
BEGIN:STANDARD
TZOFFSETFROM:-0600
TZOFFSETTO:-0700
TZNAME:MST
DTSTART:20221106T080000
END:STANDARD
BEGIN:DAYLIGHT
TZOFFSETFROM:-0700
TZOFFSETTO:-0600
TZNAME:MDT
DTSTART:20230312T090000
END:DAYLIGHT
BEGIN:STANDARD
TZOFFSETFROM:-0600
TZOFFSETTO:-0700
TZNAME:MST
DTSTART:20231105T080000
END:STANDARD
BEGIN:DAYLIGHT
TZOFFSETFROM:-0700
TZOFFSETTO:-0600
TZNAME:MDT
DTSTART:20240310T090000
END:DAYLIGHT
BEGIN:STANDARD
TZOFFSETFROM:-0600
TZOFFSETTO:-0700
TZNAME:MST
DTSTART:20241103T080000
END:STANDARD
BEGIN:DAYLIGHT
TZOFFSETFROM:-0700
TZOFFSETTO:-0600
TZNAME:MDT
DTSTART:20250309T090000
END:DAYLIGHT
BEGIN:STANDARD
TZOFFSETFROM:-0600
TZOFFSETTO:-0700
TZNAME:MST
DTSTART:20251102T080000
END:STANDARD
END:VTIMEZONE
BEGIN:VEVENT
DTSTART;TZID=America/Boise:20220802T173000
DTEND;TZID=America/Boise:20220802T203000
DTSTAMP:20260423T143910
CREATED:20220214T194646Z
LAST-MODIFIED:20220720T230333Z
UID:2640-1659461400-1659472200@shenwest.org
SUMMARY:National Night Out - Tuesday\, August 2nd
DESCRIPTION:When: Tuesday\, Aug 2nd\nFrom 5:30pm – 8:30pm\nWhere: Jullion Park\nWhat: Sandwiches\, Chips\, Water and Cookies will be provided.\nA bounce house for the kids\, live acoustic music and lawn games for all to play. \nWe’ve also invited Boise Police and Fire to come and join in our celebration. \nPlease walk or bike to the park as there is limited parking available.
URL:https://shenwest.org/event/national-night-out-tuesday-august-2nd/
LOCATION:ID
END:VEVENT
BEGIN:VEVENT
DTSTART;VALUE=DATE:20221201
DTEND;VALUE=DATE:20221218
DTSTAMP:20260423T143910
CREATED:20220720T231333Z
LAST-MODIFIED:20221202T011341Z
UID:2745-1669852800-1671321599@shenwest.org
SUMMARY:Christmas Light Contest
DESCRIPTION:When: December 1-17th \nWhere:  Your House! \n1) Sign up HERE to participate by December 7th \n2) Get Lights up by Friday\, December 9th \n3) Go HERE to VOTE by December 15th \nWinners Announced December 17th \nCategories:  \n  – Best Lights 1 &2 \n  – Most Whimsical \n  – Most Traditional \n  – Best Door/Entry
URL:https://shenwest.org/event/holiday-light-contest/
LOCATION:ID
END:VEVENT
BEGIN:VEVENT
DTSTART;TZID=America/Boise:20221209T180000
DTEND;TZID=America/Boise:20221209T210000
DTSTAMP:20260423T143910
CREATED:20190731T200804Z
LAST-MODIFIED:20221202T010409Z
UID:1856-1670608800-1670619600@shenwest.org
SUMMARY:Christmas Event - Trolley Ride and Santa
DESCRIPTION:Join us for our Annual SWNA Trolley Ride. \nFriday\, December 9th \nSign Up for Tickets Below! \nWhen: Friday\, Dec. 9th \nTime: 6pm- 9pm\, Trolley rides 6-8:30pm \nWhat: Trolley Ride and a visit from Mr. And Mrs. Claus (An excellent opportunity for family\nphotos with Santa!  Bring your camera and enjoy no lines for your special visit!) \nWhere: Jameson Residence – 9962 W Meadowlark St. (just off Jullion/north entrance) \nThe board will be providing hot beverages and sweet treats! Stick around and meet neighbors while enjoying some family fun!!
URL:https://shenwest.org/event/holiday-trolley-ride/
LOCATION:ID
END:VEVENT
BEGIN:VEVENT
DTSTART;TZID=America/Boise:20230112T183000
DTEND;TZID=America/Boise:20230112T203000
DTSTAMP:20260423T143910
CREATED:20230112T023446Z
LAST-MODIFIED:20230112T023446Z
UID:3008-1673548200-1673555400@shenwest.org
SUMMARY:SWNA Board Meeting - January 12
DESCRIPTION:Location: Board Private Residence\nWhen: 1/12/2023 at 6:30pm MST\nAgenda: New 2023 SWNA Board \nDue to the meeting being held at a private residence\, please notify the Board if a resident has questions or would like to attend virtually via a Zoom link.
URL:https://shenwest.org/event/swna-board-meeting-january-12/
LOCATION:ID
END:VEVENT
BEGIN:VEVENT
DTSTART;TZID=America/Boise:20230207T180000
DTEND;TZID=America/Boise:20230207T193000
DTSTAMP:20260423T143910
CREATED:20230114T233518Z
LAST-MODIFIED:20230201T162213Z
UID:3014-1675792800-1675798200@shenwest.org
SUMMARY:SWNA Board Meeting - February 7\, 2023
DESCRIPTION:Location: Library! at Cole & Ustick\nWhen: 2/7/2023 at 6:00pm – 7:30pm MST\nAgenda:  \nPlease notify the Board if a resident has questions or would like to attend live or virtually via a Zoom link.
URL:https://shenwest.org/event/swna-board-meeting-february-7-2023/
LOCATION:ID
END:VEVENT
BEGIN:VEVENT
DTSTART;TZID=America/Boise:20230307T180000
DTEND;TZID=America/Boise:20230307T193000
DTSTAMP:20260423T143910
CREATED:20230213T202527Z
LAST-MODIFIED:20230227T213100Z
UID:3046-1678212000-1678217400@shenwest.org
SUMMARY:SWNA Board Meeting - March 7th
DESCRIPTION:Location: Private Residence\nWhen: 3/7/2023 at 6:00pm – 7:30pm MST\nAgenda: TBD \nPlease notify the Board if you plan to attend virtually: https://meet.google.com/wkv-vhtu-utr  \n 
URL:https://shenwest.org/event/swna-board-meeting-march-7th/
LOCATION:ID
END:VEVENT
BEGIN:VEVENT
DTSTART;TZID=America/Boise:20230403T183000
DTEND;TZID=America/Boise:20230403T200000
DTSTAMP:20260423T143910
CREATED:20230227T213218Z
LAST-MODIFIED:20230323T144047Z
UID:3054-1680546600-1680552000@shenwest.org
SUMMARY:SWNA Board Meeting - April 3rd
DESCRIPTION:Location: Private Residence\nWhen: 4/3/2023 at 6:30pm – 7:45pm MST\nAgenda: TBD \nPlease notify the Board if you plan to attend virtually: https://meet.google.com/rib-kbti-zdw   \n 
URL:https://shenwest.org/event/swna-board-meeting-april-4th/
LOCATION:ID
END:VEVENT
BEGIN:VEVENT
DTSTART;TZID=America/Boise:20230408T100000
DTEND;TZID=America/Boise:20230408T113000
DTSTAMP:20260423T143910
CREATED:20220214T194047Z
LAST-MODIFIED:20230330T200616Z
UID:2629-1680948000-1680953400@shenwest.org
SUMMARY:Easter Event - POSTPONED to Saturday\, April 8th
DESCRIPTION:When:  POSTPONED to Saturday\, April 8th \nTime:  10am to 11:30 \nLocation:  Jullion Park \nDetails: Please bring 6-12 candy/toy filled eggs per child attending.
URL:https://shenwest.org/event/easter-event-saturday-april-9th/
LOCATION:ID
END:VEVENT
BEGIN:VEVENT
DTSTART;TZID=America/Boise:20230509T180000
DTEND;TZID=America/Boise:20230509T200000
DTSTAMP:20260423T143910
CREATED:20230227T213323Z
LAST-MODIFIED:20230323T144010Z
UID:3056-1683655200-1683662400@shenwest.org
SUMMARY:SWNA Board Meeting - May 9th
DESCRIPTION:Location: Library! at Cole and Ustick\nWhen: 5/9/2023 at 6:00pm – 7:45m MST\nAgenda: TBD \nPlease notify the Board if you plan to attend virtually: https://meet.google.com/grm-jucd-bzu \n 
URL:https://shenwest.org/event/swna-board-meeting-may-2nd/
LOCATION:ID
END:VEVENT
BEGIN:VEVENT
DTSTART;TZID=America/Boise:20230603T080000
DTEND;TZID=America/Boise:20230603T140000
DTSTAMP:20260423T143910
CREATED:20220214T194419Z
LAST-MODIFIED:20230413T135802Z
UID:2638-1685779200-1685800800@shenwest.org
SUMMARY:Neighborhood Garage Sale - Saturday\, June 3rd
DESCRIPTION:When:  Saturday\, June 3rd \nTime:  8am to 2pm \nLocation:  Your Home \nDetails:  Join your neighbors in our Annual Garage Sale
URL:https://shenwest.org/event/garage-sale-saturday-may-14th/
LOCATION:ID
END:VEVENT
BEGIN:VEVENT
DTSTART;TZID=America/Boise:20230607T180000
DTEND;TZID=America/Boise:20230607T200000
DTSTAMP:20260423T143910
CREATED:20230227T213426Z
LAST-MODIFIED:20230606T135132Z
UID:3058-1686160800-1686168000@shenwest.org
SUMMARY:SWNA Board Meeting - June 7th
DESCRIPTION:Location: Library! at Cole and Ustick\nWhen: 6/7/2023 at 6:00pm – 7:45pm MST\nAgenda: TBD \nPlease notify the Board if you plan to attend virtually.  https://meet.google.com/pnt-ayeu-erg \n 
URL:https://shenwest.org/event/swna-board-meeting-june-6th/
LOCATION:ID
END:VEVENT
BEGIN:VEVENT
DTSTART;TZID=America/Boise:20230711T180000
DTEND;TZID=America/Boise:20230711T200000
DTSTAMP:20260423T143910
CREATED:20230227T213529Z
LAST-MODIFIED:20230619T174932Z
UID:3060-1689098400-1689105600@shenwest.org
SUMMARY:SWNA Board Meeting - July 11th
DESCRIPTION:Location: Library! at Cole and Ustick\nWhen: 7/11/2023 at 6:00pm – 8:00pm MST\nAgenda: TBD \nPlease notify the Board if you plan to attend virtually. https://meet.google.com/wii-pyho-ogw \n 
URL:https://shenwest.org/event/swna-board-meeting-july-11th/
LOCATION:ID
END:VEVENT
BEGIN:VEVENT
DTSTART;TZID=America/Boise:20230808T180000
DTEND;TZID=America/Boise:20230808T200000
DTSTAMP:20260423T143910
CREATED:20230227T213612Z
LAST-MODIFIED:20230619T175029Z
UID:3062-1691517600-1691524800@shenwest.org
SUMMARY:SWNA Board Meeting - August 8th
DESCRIPTION:Location: Library! at Cole and Ustick\nWhen: 8/8/2023 at 6:00pm – 8:00pm MST\nAgenda: TBD \nPlease notify the Board if you plan to attend virtually. https://meet.google.com/ogf-objv-kpg \n 
URL:https://shenwest.org/event/swna-board-meeting-august-1st/
LOCATION:ID
END:VEVENT
BEGIN:VEVENT
DTSTART;TZID=America/Boise:20230905T180000
DTEND;TZID=America/Boise:20230905T200000
DTSTAMP:20260423T143910
CREATED:20230227T213659Z
LAST-MODIFIED:20230619T175106Z
UID:3064-1693936800-1693944000@shenwest.org
SUMMARY:SWNA Board Meeting - September 5th
DESCRIPTION:Location: Library! at Cole and Ustick\nWhen: 9/5/2023 at 6:00pm – 8:00pm MST\nAgenda: TBD \nPlease notify the Board if you plan to attend virtually.  https://meet.google.com/owb-ivgj-ron \n 
URL:https://shenwest.org/event/swna-board-meeting-september-5th/
LOCATION:ID
END:VEVENT
BEGIN:VEVENT
DTSTART;TZID=America/Boise:20231003T180000
DTEND;TZID=America/Boise:20231003T193000
DTSTAMP:20260423T143910
CREATED:20210709T012437Z
LAST-MODIFIED:20230822T192423Z
UID:2423-1696356000-1696361400@shenwest.org
SUMMARY:SWNA Board Meeting - October 3rd
DESCRIPTION:Location: Ustick Library\nWhen: 11/11/2021 at 6:30pm MST\nAgenda: TBD
URL:https://shenwest.org/event/swna-board-meeting-november-11th/
LOCATION:ID
END:VEVENT
BEGIN:VEVENT
DTSTART;TZID=America/Boise:20231116T000000
DTEND;TZID=America/Boise:20231205T000000
DTSTAMP:20260423T143910
CREATED:20231024T192738Z
LAST-MODIFIED:20231206T191735Z
UID:3101-1700092800-1701734400@shenwest.org
SUMMARY:Christmas Lights Competition Sign Up
DESCRIPTION:“Deck the Halls with Boughs of Holly” and decorate like National Lampoon’s Christmas Vacation is being filmed in your front yard! If you would like to be entered into this year’s competition\, please register your home with the provided link. We have some incredible prizes this year for the neighborhood’s votes in the following categories: \n\nBest Lights (1st and 2nd place)\nMost Traditional\nBest Entryway\nMost Whimsical\nHonorable Mentions (up to 3 prizes)\n\nGood luck!
URL:https://shenwest.org/event/christmas-lights-competition-and-voting/
LOCATION:ID
END:VEVENT
BEGIN:VEVENT
DTSTART;TZID=America/Boise:20231116T193000
DTEND;TZID=America/Boise:20231116T210000
DTSTAMP:20260423T143910
CREATED:20220720T230832Z
LAST-MODIFIED:20230825T140416Z
UID:2741-1700163000-1700168400@shenwest.org
SUMMARY:SWNA Annual Meeting - Thursday\, November 16th
DESCRIPTION:When:  Thursday\, November 16th at 7:30pm (please arrive early) \nWhere:  Summerwind Elementary School Gym \nTopics Include: \n\n2023 Year Recap\n2024 Board Elections\n2024 Budget\nUpcoming Events
URL:https://shenwest.org/event/swna-annual-meeting-thursday-november-17th/
LOCATION:ID
END:VEVENT
BEGIN:VEVENT
DTSTART;TZID=America/Boise:20231205T080000
DTEND;TZID=America/Boise:20231215T170000
DTSTAMP:20260423T143910
CREATED:20231206T191618Z
LAST-MODIFIED:20231206T191618Z
UID:3147-1701763200-1702659600@shenwest.org
SUMMARY:Christmas Lights Competition Voting
DESCRIPTION:Time to decide who did it best! Vote here for your favorite community member’s Christmas Lights! \nUse the link or QR code below to cast your votes for the following categories: \nBest Lights \nMost Traditional \nBest Entryway \nMost Whimsical \nHonorable Mention \nEach home participating has a sign with the QR code and their house number included so you know who is who when voting.  \nEach home gets a maximum of two votes\, which requires voting twice with two separate names. All submissions with the same address after the two allowed votes will not be accepted. You cannot change your votes after submitting\, so make sure you look closely! And yes\, you may vote for yourself (if you are on the list)! \nVoting is available from 12/5/23 through 12/15/23. Prizes and winning signs will be delivered after results are tabulated!
URL:https://shenwest.org/event/christmas-lights-competition-voting/
LOCATION:ID
END:VEVENT
BEGIN:VEVENT
DTSTART;TZID=America/Boise:20231208T170000
DTEND;TZID=America/Boise:20231208T220000
DTSTAMP:20260423T143910
CREATED:20231024T193248Z
LAST-MODIFIED:20231024T193248Z
UID:3104-1702054800-1702072800@shenwest.org
SUMMARY:Christmas Trolley and Santa
DESCRIPTION:Santa will be available between 6-8pm. Each trolley sign up during this time will include a visit with Santa after the ride. Santa may be visited at any time without a trolley sign up as well! There is a party limit of 6 people this year to allow more families the chance to enjoy the experience. If you have a large party and would like us to reserve a larger slot\, please contact the board directly ASAP at swnaboise@gmail.com. Large groups will be accommodated on a first come\, first served basis. \n  \nChristmas Trolley Sign Up: https://shenwesttrolleysignup2023.eventbrite.com \nUse this password when prompted: SWNABoise \nBe sure to select your time slot using the map provided on the event’s page.
URL:https://shenwest.org/event/christmas-trolley-and-santa/
LOCATION:4101 N Armstrong Ave\, 4101 N Armstrong Ave\, Boise\, ID\, 83704\, United States
END:VEVENT
BEGIN:VEVENT
DTSTART;TZID=America/Boise:20240109T180000
DTEND;TZID=America/Boise:20240109T200000
DTSTAMP:20260423T143910
CREATED:20240102T173044Z
LAST-MODIFIED:20240102T173117Z
UID:3152-1704823200-1704830400@shenwest.org
SUMMARY:SWNA Board Meeting - January 9th
DESCRIPTION:Location: Library! at Cole and Ustick – 7557 W Ustick Rd\, Boise\, ID 83704\nWhen: 1/9/2024 at 6:00pm – 8:00pm MST\nAgenda: TBD \nIf neighbors want to come and present concerns or ideas to the board\, they need to arrive by 6:30p.m.\n  \n 
URL:https://shenwest.org/event/swna-board-meeting-january-9th/
LOCATION:ID
END:VEVENT
BEGIN:VEVENT
DTSTART;TZID=America/Boise:20240207T180000
DTEND;TZID=America/Boise:20240207T183000
DTSTAMP:20260423T143910
CREATED:20240111T153813Z
LAST-MODIFIED:20240111T205729Z
UID:3158-1707328800-1707330600@shenwest.org
SUMMARY:SWNA Board Meeting - February 7th
DESCRIPTION:Location: Virtual Only\nAgenda: TBD \nNeighbors are welcome to present questions\, comments\, concerns during the open forum meeting from 6-6:30. The Board moves into an executive session at 6:30 p.m. that is closed to the public. Members can always contact the board in-between meetings by emailing swnaboise@gmail.com or using the owner portal. Valley Property Management monitors all communication and will reply during business hours.\n  \n 
URL:https://shenwest.org/event/swna-board-meeting-february-7th/
LOCATION:ID
END:VEVENT
BEGIN:VEVENT
DTSTART;TZID=America/Boise:20240306T180000
DTEND;TZID=America/Boise:20240306T183000
DTSTAMP:20260423T143910
CREATED:20240111T153923Z
LAST-MODIFIED:20240304T174150Z
UID:3160-1709748000-1709749800@shenwest.org
SUMMARY:SWNA Board Meeting - March 6th
DESCRIPTION:Location: \nHillview United Methodist Church \n8525 W Ustick Rd\, Boise\, ID 83704 \n\nAgenda: TBD \nNeighbors are welcome to present questions\, comments\, concerns during the open forum meeting from 6-6:30. The Board moves into an executive session at 6:30 p.m. that is closed to the public. Members can always contact the board in-between meetings by emailing swnaboise@gmail.com or using the owner portal. Valley Property Management monitors all communication and will reply during business hours.\n  \n 
URL:https://shenwest.org/event/swna-board-meeting-march-6th/
LOCATION:ID
END:VEVENT
BEGIN:VEVENT
DTSTART;TZID=America/Boise:20240330T100000
DTEND;TZID=America/Boise:20240330T100000
DTSTAMP:20260423T143910
CREATED:20240308T215533Z
LAST-MODIFIED:20240308T221951Z
UID:3230-1711792800-1711792800@shenwest.org
SUMMARY:Easter Egg Hunt
DESCRIPTION:HOA sponsored Easter Egg Hunt \nSaturday\, March 30th\, 2024 \nJullion Park at 10 AM \nEggs will be provided \nPlease bring a basket for your child
URL:https://shenwest.org/event/easter-egg-hunt/
LOCATION:ID
ATTACH;FMTTYPE=image/jpeg:https://shenwest.org/wp-content/uploads/2024/03/Food-Nov-27-scaled.jpg
END:VEVENT
BEGIN:VEVENT
DTSTART;TZID=America/Boise:20240410T180000
DTEND;TZID=America/Boise:20240410T183000
DTSTAMP:20260423T143910
CREATED:20240111T154005Z
LAST-MODIFIED:20240111T204143Z
UID:3162-1712772000-1712773800@shenwest.org
SUMMARY:SWNA Board Meeting - April 10th
DESCRIPTION:Location: Virtual Only\nAgenda: TBD \nNeighbors are welcome to present questions\, comments\, concerns during the open forum meeting from 6-6:30. The Board moves into an executive session at 6:30 p.m. that is closed to the public. Members can always contact the board in-between meetings by emailing swnaboise@gmail.com or using the owner portal. Valley Property Management monitors all communication and will reply during business hours.\n  \n 
URL:https://shenwest.org/event/swna-board-meeting-april-10th/
LOCATION:ID
END:VEVENT
BEGIN:VEVENT
DTSTART;TZID=America/Boise:20240508T180000
DTEND;TZID=America/Boise:20240508T183000
DTSTAMP:20260423T143910
CREATED:20240111T154039Z
LAST-MODIFIED:20240304T174133Z
UID:3164-1715191200-1715193000@shenwest.org
SUMMARY:SWNA Board Meeting - May 8th
DESCRIPTION:Location: \nHillview United Methodist Church \n8525 W Ustick Rd\, Boise\, ID 83704 \n\nAgenda: TBD \nNeighbors are welcome to present questions\, comments\, concerns during the open forum meeting from 6-6:30. The Board moves into an executive session at 6:30 p.m. that is closed to the public. Members can always contact the board in-between meetings by emailing swnaboise@gmail.com or using the owner portal. Valley Property Management monitors all communication and will reply during business hours.\n  \n 
URL:https://shenwest.org/event/swna-board-meeting-may-8th/
LOCATION:ID
END:VEVENT
BEGIN:VEVENT
DTSTART;TZID=America/Boise:20240604T180000
DTEND;TZID=America/Boise:20240604T183000
DTSTAMP:20260423T143910
CREATED:20240111T154145Z
LAST-MODIFIED:20240528T175847Z
UID:3166-1717524000-1717525800@shenwest.org
SUMMARY:SWNA Board Meeting - June 4th
DESCRIPTION:Location: Virtual Only\nAgenda: TBD \nNeighbors are welcome to present questions\, comments\, concerns during the open forum meeting from 6-6:30. The Board moves into an executive session at 6:30 p.m. that is closed to the public. Members can always contact the board in-between meetings by emailing swnaboise@gmail.com or using the owner portal. Valley Property Management monitors all communication and will reply during business hours.\n  \n 
URL:https://shenwest.org/event/swna-board-meeting-june-5th/
LOCATION:ID
END:VEVENT
BEGIN:VEVENT
DTSTART;VALUE=DATE:20240608
DTEND;VALUE=DATE:20240609
DTSTAMP:20260423T143910
CREATED:20240429T144718Z
LAST-MODIFIED:20240429T144718Z
UID:3276-1717804800-1717891199@shenwest.org
SUMMARY:Garage Sale
DESCRIPTION:
URL:https://shenwest.org/event/garage-sale/
LOCATION:ID
END:VEVENT
BEGIN:VEVENT
DTSTART;TZID=America/Boise:20240710T180000
DTEND;TZID=America/Boise:20240710T183000
DTSTAMP:20260423T143910
CREATED:20240111T154258Z
LAST-MODIFIED:20240315T163213Z
UID:3170-1720634400-1720636200@shenwest.org
SUMMARY:SWNA Board Meeting - July 10th
DESCRIPTION:Location: \nGarden City Library \n6015 N Glenwood St\, Garden City\, ID 83714 \n\nAgenda: TBD \nNeighbors are welcome to present questions\, comments\, concerns during the open forum meeting from 6-6:30. The Board moves into an executive session at 6:30 p.m. that is closed to the public. Members can always contact the board in-between meetings by emailing swnaboise@gmail.com or using the owner portal. Valley Property Management monitors all communication and will reply during business hours.\n  \n 
URL:https://shenwest.org/event/swna-board-meeting-july-10th/
LOCATION:ID
END:VEVENT
BEGIN:VEVENT
DTSTART;TZID=America/Boise:20240808T180000
DTEND;TZID=America/Boise:20240808T183000
DTSTAMP:20260423T143910
CREATED:20240111T154342Z
LAST-MODIFIED:20240805T225039Z
UID:3172-1723140000-1723141800@shenwest.org
SUMMARY:SWNA Board Meeting - August 8th
DESCRIPTION:Location: Virtual Only\nAgenda: TBD \nhttps://meet.google.com/yxn-gxvf-nqn \nNeighbors are welcome to present questions\, comments\, concerns during the open forum meeting from 6-6:30. The Board moves into an executive session at 6:30 p.m. that is closed to the public. Members can always contact the board in-between meetings by emailing swnaboise@gmail.com or using the owner portal. Valley Property Management monitors all communication and will reply during business hours.\n  \n 
URL:https://shenwest.org/event/swna-board-meeting-august-8th/
LOCATION:ID
END:VEVENT
BEGIN:VEVENT
DTSTART;TZID=America/Boise:20240904T180000
DTEND;TZID=America/Boise:20240904T183000
DTSTAMP:20260423T143910
CREATED:20240111T154417Z
LAST-MODIFIED:20240315T163149Z
UID:3174-1725472800-1725474600@shenwest.org
SUMMARY:SWNA Board Meeting - September 4th
DESCRIPTION:Location: \nGarden City Library \n6015 N Glenwood St\, Garden City\, ID 83714 \n\nAgenda: TBD \nNeighbors are welcome to present questions\, comments\, concerns during the open forum meeting from 6-6:30. The Board moves into an executive session at 6:30 p.m. that is closed to the public. Members can always contact the board in-between meetings by emailing swnaboise@gmail.com or using the owner portal. Valley Property Management monitors all communication and will reply during business hours.\n  \n 
URL:https://shenwest.org/event/swna-board-meeting-september-4th/
LOCATION:ID
END:VEVENT
END:VCALENDAR